BEGIN:VCALENDAR
VERSION:2.0
PRODID:-//Camâra do Comércio Portugal - Israel - ECPv4.9.7//NONSGML v1.0//EN
CALSCALE:GREGORIAN
METHOD:PUBLISH
X-WR-CALNAME:Camâra do Comércio Portugal - Israel
X-ORIGINAL-URL:http://ccportugal-israel.com
X-WR-CALDESC:Events for Camâra do Comércio Portugal - Israel
BEGIN:VTIMEZONE
TZID:"UTC"
BEGIN:STANDARD
TZOFFSETFROM:+0000
TZOFFSETTO:+0000
TZNAME:UTC
DTSTART:20190101T000000
END:STANDARD
END:VTIMEZONE
BEGIN:VEVENT
DTSTART;VALUE=DATE:20190728
DTEND;VALUE=DATE:20190729
DTSTAMP:20260419T140708
CREATED:20190813T091343Z
LAST-MODIFIED:20190813T092340Z
UID:316-1564272000-1564358399@ccportugal-israel.com
SUMMARY:Gaga Workshop
DESCRIPTION:Join us for two magical afternoons next July with 1 Gaga / people class and a special screening of Heymann Brothers’ documentary Mr Gaga. It is the perfect opportunity to experience Gaga and get inspired by the story of its creator.\nMr Gaga tells the story of Ohad Naharin\, renowned choreographer and artistic director of the Batsheva Dance Company. An artistic genius who redefined the language of modern dance. July 21st and 28th at the Fernando Lopes Graça Auditorium in Cascais. \n
URL:http://ccportugal-israel.com/event/gaga-workshop/
LOCATION:Auditório Fernando Lopes Graça\, Cascais\, Portugal
CATEGORIES:Israel
END:VEVENT
END:VCALENDAR