BEGIN:VCALENDAR
VERSION:2.0
PRODID:-//Camâra do Comércio Portugal - Israel - ECPv4.9.7//NONSGML v1.0//EN
CALSCALE:GREGORIAN
METHOD:PUBLISH
X-WR-CALNAME:Camâra do Comércio Portugal - Israel
X-ORIGINAL-URL:http://ccportugal-israel.com
X-WR-CALDESC:Events for Camâra do Comércio Portugal - Israel
BEGIN:VTIMEZONE
TZID:"UTC"
BEGIN:STANDARD
TZOFFSETFROM:+0000
TZOFFSETTO:+0000
TZNAME:UTC
DTSTART:20190101T000000
END:STANDARD
END:VTIMEZONE
BEGIN:VEVENT
DTSTART;TZID="UTC":20190727T220000
DTEND;TZID="UTC":20190728T000000
DTSTAMP:20260419T141337
CREATED:20190813T091816Z
LAST-MODIFIED:20190813T091840Z
UID:319-1564264800-1564272000@ccportugal-israel.com
SUMMARY:House of Music invites the Avishai Cohen Trio
DESCRIPTION:Matosinhos in Jazz: Bassist\, singer\, songwriter and\, above all\, a jazz visionary. We speak of Avishai Cohen who\, alongside the Casa da Música Symphony Orchestra\, will join the jazz world with classical music\, presenting his compositions with other languages close to contemporary jazz and world music\, orchestrations of traditional Hebrew and rogue songs and plays from the classic repertoire\, always with room for improvisation. Don’t miss this free admission concert with the support of Matosinhos City Hall. It is already on the 27th of July\, at 22h\, in Praça Gulhermina Suggia. \n
URL:http://ccportugal-israel.com/event/house-of-music-invites-the-avishai-cohen-trio/
LOCATION:Praça Gulhermina Suggia\, Praça Gulherminha Suggia\, Matosinhos\, Portugal
CATEGORIES:Israel
END:VEVENT
END:VCALENDAR