BEGIN:VCALENDAR
VERSION:2.0
PRODID:-//Camâra do Comércio Portugal - Israel - ECPv4.9.7//NONSGML v1.0//EN
CALSCALE:GREGORIAN
METHOD:PUBLISH
X-WR-CALNAME:Camâra do Comércio Portugal - Israel
X-ORIGINAL-URL:http://ccportugal-israel.com
X-WR-CALDESC:Events for Camâra do Comércio Portugal - Israel
BEGIN:VTIMEZONE
TZID:"UTC"
BEGIN:STANDARD
TZOFFSETFROM:+0000
TZOFFSETTO:+0000
TZNAME:UTC
DTSTART:20190101T000000
END:STANDARD
END:VTIMEZONE
BEGIN:VEVENT
DTSTART;VALUE=DATE:20190719
DTEND;VALUE=DATE:20190729
DTSTAMP:20260419T121212
CREATED:20190813T092148Z
LAST-MODIFIED:20190813T092306Z
UID:323-1563494400-1564358399@ccportugal-israel.com
SUMMARY:Israel Chamber Orchestra at the 6th edition of the Marvão International Music Festival
DESCRIPTION:Israeli Chamber Orchestra at the 6th edition of the Marvão International Music Festival (19-28 July). The magnificent scenery of the village receives\, in absolute debut in Portugal\, the Chamber of Israel Orchestra that performs\, in the Courtyard of the Castle of Marvao\, on July 27\, at 19h30 and on July 28\, at 19h at the Closing Gala of the FIMM. A festival with the High Sponsorship of His Excellency the President of the Republic. \n
URL:http://ccportugal-israel.com/event/israel-chamber-orchestra-at-the-6th-edition-of-the-marvao-international-music-festival/
LOCATION:Castelo de Marvão\, Marvão\, Portugal
END:VEVENT
END:VCALENDAR