BEGIN:VCALENDAR
VERSION:2.0
PRODID:-//Camâra do Comércio Portugal - Israel - ECPv4.9.7//NONSGML v1.0//EN
CALSCALE:GREGORIAN
METHOD:PUBLISH
X-WR-CALNAME:Camâra do Comércio Portugal - Israel
X-ORIGINAL-URL:http://ccportugal-israel.com
X-WR-CALDESC:Events for Camâra do Comércio Portugal - Israel
BEGIN:VTIMEZONE
TZID:"UTC"
BEGIN:STANDARD
TZOFFSETFROM:+0000
TZOFFSETTO:+0000
TZNAME:UTC
DTSTART:20190101T000000
END:STANDARD
END:VTIMEZONE
BEGIN:VEVENT
DTSTART;VALUE=DATE:20190727
DTEND;VALUE=DATE:20190802
DTSTAMP:20260419T121921
CREATED:20190813T091049Z
LAST-MODIFIED:20190813T091049Z
UID:312-1564185600-1564703999@ccportugal-israel.com
SUMMARY:Moran Choir Youth Choir
DESCRIPTION:This year the World Choir Festival\, organized by the International Federation for Choral Music (IFCM)\, takes place in Lisbon from 27 July to 1 August. Representing Israel will be Moran Choir\, a choir of thirty children and young people who confirm the raison d’être of this initiative this year on the theme Voices Meeting for a Better World: affirming values such as friendship\, cultural tolerance and desire. of peace expressed with the energy of their young voices.\nMoran Choir performs:\nJuly 28th at 12h in the Town Square in Cascais and at 21h in the Black and Silver Room of the Estoril Casino;\nJuly 29th at 9pm at the Black and Silver Room of Estoril Casino;\nJuly 30th at 3:30 pm at the Gala Concert at the São Carlos National Theater;\nJuly 31st at 9pm at the Closing Ceremony at the National Theater of São Carlos. \n
URL:http://ccportugal-israel.com/event/moran-choir-youth-choir/
LOCATION:Casino Estoril\, Estoril\, Portugal
END:VEVENT
END:VCALENDAR